Package: MultiDataSet Version: 1.32.0 Command: /Library/Frameworks/R.framework/Resources/bin/R CMD INSTALL MultiDataSet StartedAt: 2024-10-16 16:10:36 -0400 (Wed, 16 Oct 2024) EndedAt: 2024-10-16 16:11:03 -0400 (Wed, 16 Oct 2024) EllapsedTime: 27.6 seconds RetCode: 0 Status: OK