Package: MultiBaC Version: 1.14.0 Command: chmod a+r MultiBaC -R && E:\biocbuild\bbs-3.19-bioc\R\bin\R.exe CMD build --keep-empty-dirs --no-resave-data MultiBaC StartedAt: 2024-10-16 20:35:21 -0400 (Wed, 16 Oct 2024) EndedAt: 2024-10-16 20:36:57 -0400 (Wed, 16 Oct 2024) EllapsedTime: 95.9 seconds RetCode: 0 Status: OK PackageFile: MultiBaC_1.14.0.tar.gz PackageFileSize: 728.1 KiB