Package: MultiBaC Version: 1.14.0 Command: F:\biocbuild\bbs-3.19-bioc\R\bin\R.exe CMD INSTALL MultiBaC StartedAt: 2024-06-26 16:43:05 -0400 (Wed, 26 Jun 2024) EndedAt: 2024-06-26 16:43:14 -0400 (Wed, 26 Jun 2024) EllapsedTime: 9.0 seconds RetCode: 0 Status: OK