Package: MultiBaC Version: 1.14.0 Command: /home/biocbuild/bbs-3.19-bioc/R/bin/R CMD build --keep-empty-dirs --no-resave-data MultiBaC StartedAt: 2024-10-16 19:42:22 -0400 (Wed, 16 Oct 2024) EndedAt: 2024-10-16 19:43:21 -0400 (Wed, 16 Oct 2024) EllapsedTime: 59.1 seconds RetCode: 0 Status: OK PackageFile: MultiBaC_1.14.0.tar.gz PackageFileSize: 1.555 MiB