Package: MultiBaC Version: 1.14.0 Command: /Library/Frameworks/R.framework/Resources/bin/R CMD build --keep-empty-dirs --no-resave-data MultiBaC StartedAt: 2024-10-16 21:26:05 -0400 (Wed, 16 Oct 2024) EndedAt: 2024-10-16 21:28:26 -0400 (Wed, 16 Oct 2024) EllapsedTime: 141.4 seconds RetCode: 0 Status: OK PackageFile: MultiBaC_1.14.0.tar.gz PackageFileSize: 1.745 MiB