Package: MultiBaC Version: 1.14.0 Command: rm -rf MultiBaC.buildbin-libdir && mkdir MultiBaC.buildbin-libdir && /Users/biocbuild/BBS/utils/build-universal.sh MultiBaC_1.14.0.tar.gz /Library/Frameworks/R.framework/Resources/bin/R MultiBaC.buildbin-libdir StartedAt: 2024-10-18 19:39:28 -0400 (Fri, 18 Oct 2024) EndedAt: 2024-10-18 19:39:37 -0400 (Fri, 18 Oct 2024) EllapsedTime: 8.7 seconds RetCode: 0 Status: OK PackageFile: MultiBaC_1.14.0.tgz PackageFileSize: 1.805 MiB