Package: MultiAssayExperiment Version: 1.30.3 Command: E:\biocbuild\bbs-3.19-bioc\R\bin\R.exe CMD INSTALL MultiAssayExperiment StartedAt: 2024-10-16 16:20:48 -0400 (Wed, 16 Oct 2024) EndedAt: 2024-10-16 16:22:30 -0400 (Wed, 16 Oct 2024) EllapsedTime: 101.8 seconds RetCode: 0 Status: OK