Package: MultiAssayExperiment Version: 1.30.3 Command: chmod a+r MultiAssayExperiment -R && E:\biocbuild\bbs-3.19-bioc\R\bin\R.exe CMD build --keep-empty-dirs --no-resave-data MultiAssayExperiment StartedAt: 2024-10-16 20:35:09 -0400 (Wed, 16 Oct 2024) EndedAt: 2024-10-16 20:36:44 -0400 (Wed, 16 Oct 2024) EllapsedTime: 95.0 seconds RetCode: 0 Status: OK PackageFile: MultiAssayExperiment_1.30.3.tar.gz PackageFileSize: 1.085 MiB