Package: MultiAssayExperiment Version: 1.30.3 Command: rm -rf MultiAssayExperiment.buildbin-libdir && mkdir MultiAssayExperiment.buildbin-libdir && E:\biocbuild\bbs-3.19-bioc\R\bin\R.exe CMD INSTALL --build --library=MultiAssayExperiment.buildbin-libdir MultiAssayExperiment_1.30.3.tar.gz StartedAt: 2024-10-17 08:13:16 -0400 (Thu, 17 Oct 2024) EndedAt: 2024-10-17 08:19:58 -0400 (Thu, 17 Oct 2024) EllapsedTime: 402.3 seconds RetCode: 0 Status: OK PackageFile: MultiAssayExperiment_1.30.3.zip PackageFileSize: 1.977 MiB