Package: MultiAssayExperiment Version: 1.30.2 Command: chmod a+r MultiAssayExperiment -R && F:\biocbuild\bbs-3.19-bioc\R\bin\R.exe CMD build --keep-empty-dirs --no-resave-data MultiAssayExperiment StartedAt: 2024-06-26 20:22:02 -0400 (Wed, 26 Jun 2024) EndedAt: 2024-06-26 20:23:46 -0400 (Wed, 26 Jun 2024) EllapsedTime: 103.5 seconds RetCode: 0 Status: OK PackageFile: MultiAssayExperiment_1.30.2.tar.gz PackageFileSize: 1.085 MiB