Package: MultiAssayExperiment Version: 1.30.3 Command: /home/biocbuild/bbs-3.19-bioc/R/bin/R CMD build --keep-empty-dirs --no-resave-data MultiAssayExperiment StartedAt: 2024-10-16 19:42:20 -0400 (Wed, 16 Oct 2024) EndedAt: 2024-10-16 19:43:20 -0400 (Wed, 16 Oct 2024) EllapsedTime: 60.1 seconds RetCode: 0 Status: OK PackageFile: MultiAssayExperiment_1.30.3.tar.gz PackageFileSize: 1.127 MiB