Package: MultiAssayExperiment Version: 1.30.3 Command: /Library/Frameworks/R.framework/Resources/bin/R CMD check --install=check:MultiAssayExperiment.install-out.txt --library=/Library/Frameworks/R.framework/Resources/library --no-vignettes --timings MultiAssayExperiment_1.30.3.tar.gz StartedAt: 2024-10-17 09:42:22 -0400 (Thu, 17 Oct 2024) EndedAt: 2024-10-17 09:52:55 -0400 (Thu, 17 Oct 2024) EllapsedTime: 633.0 seconds RetCode: 0 Status: OK CheckDir: MultiAssayExperiment.Rcheck Warnings: 0