Package: MultiAssayExperiment Version: 1.30.3 Command: /Library/Frameworks/R.framework/Resources/bin/R CMD build --keep-empty-dirs --no-resave-data MultiAssayExperiment StartedAt: 2024-10-16 21:25:15 -0400 (Wed, 16 Oct 2024) EndedAt: 2024-10-16 21:28:38 -0400 (Wed, 16 Oct 2024) EllapsedTime: 203.1 seconds RetCode: 0 Status: OK PackageFile: MultiAssayExperiment_1.30.3.tar.gz PackageFileSize: 1.15 MiB