Package: MultiAssayExperiment Version: 1.30.2 Command: rm -rf MultiAssayExperiment.buildbin-libdir && mkdir MultiAssayExperiment.buildbin-libdir && /Users/biocbuild/BBS/utils/build-universal.sh MultiAssayExperiment_1.30.2.tar.gz /Library/Frameworks/R.framework/Resources/bin/R MultiAssayExperiment.buildbin-libdir StartedAt: 2024-06-10 00:28:57 -0400 (Mon, 10 Jun 2024) EndedAt: 2024-06-10 00:29:42 -0400 (Mon, 10 Jun 2024) EllapsedTime: 45.1 seconds RetCode: 0 Status: OK PackageFile: MultiAssayExperiment_1.30.2.tgz PackageFileSize: 2.03 MiB