Package: MultiAssayExperiment Version: 1.30.1 Command: /home/biocbuild/R/R-beta-2024-04-15_r86425/bin/R CMD build --keep-empty-dirs --no-resave-data MultiAssayExperiment StartedAt: 2024-05-09 02:00:39 -0000 (Thu, 09 May 2024) EndedAt: 2024-05-09 02:02:01 -0000 (Thu, 09 May 2024) EllapsedTime: 82.1 seconds RetCode: 0 Status: OK PackageFile: MultiAssayExperiment_1.30.1.tar.gz PackageFileSize: 1.167 MiB