Package: MultiAssayExperiment Version: 1.30.3 Command: /Library/Frameworks/R.framework/Resources/bin/R CMD check --install=check:MultiAssayExperiment.install-out.txt --library=/Library/Frameworks/R.framework/Resources/library --no-vignettes --timings MultiAssayExperiment_1.30.3.tar.gz StartedAt: 2024-10-18 05:26:19 -0400 (Fri, 18 Oct 2024) EndedAt: 2024-10-18 05:30:51 -0400 (Fri, 18 Oct 2024) EllapsedTime: 272.3 seconds RetCode: 0 Status: OK CheckDir: MultiAssayExperiment.Rcheck Warnings: 0