Package: MultiAssayExperiment Version: 1.30.3 Command: rm -rf MultiAssayExperiment.buildbin-libdir && mkdir MultiAssayExperiment.buildbin-libdir && /Users/biocbuild/BBS/utils/build-universal.sh MultiAssayExperiment_1.30.3.tar.gz /Library/Frameworks/R.framework/Resources/bin/R MultiAssayExperiment.buildbin-libdir StartedAt: 2024-10-18 19:39:28 -0400 (Fri, 18 Oct 2024) EndedAt: 2024-10-18 19:40:14 -0400 (Fri, 18 Oct 2024) EllapsedTime: 45.7 seconds RetCode: 0 Status: OK PackageFile: MultiAssayExperiment_1.30.3.tgz PackageFileSize: 2.029 MiB