Package: Mulcom Version: 1.54.0 Command: /Library/Frameworks/R.framework/Resources/bin/R CMD check --install=check:Mulcom.install-out.txt --library=/Library/Frameworks/R.framework/Resources/library --no-vignettes --timings Mulcom_1.54.0.tar.gz StartedAt: 2024-10-17 09:42:15 -0400 (Thu, 17 Oct 2024) EndedAt: 2024-10-17 09:44:55 -0400 (Thu, 17 Oct 2024) EllapsedTime: 159.8 seconds RetCode: 0 Status: WARNINGS CheckDir: Mulcom.Rcheck Warnings: 1