Package: Mulcom Version: 1.54.0 Command: /Library/Frameworks/R.framework/Resources/bin/R CMD INSTALL Mulcom StartedAt: 2024-06-09 15:07:50 -0400 (Sun, 09 Jun 2024) EndedAt: 2024-06-09 15:08:01 -0400 (Sun, 09 Jun 2024) EllapsedTime: 11.3 seconds RetCode: 0 Status: OK