Package: Mulcom Version: 1.54.0 Command: rm -rf Mulcom.buildbin-libdir && mkdir Mulcom.buildbin-libdir && /Users/biocbuild/BBS/utils/build-universal.sh Mulcom_1.54.0.tar.gz /Library/Frameworks/R.framework/Resources/bin/R Mulcom.buildbin-libdir StartedAt: 2024-06-10 00:28:55 -0400 (Mon, 10 Jun 2024) EndedAt: 2024-06-10 00:29:08 -0400 (Mon, 10 Jun 2024) EllapsedTime: 13.6 seconds RetCode: 0 Status: OK PackageFile: Mulcom_1.54.0.tgz PackageFileSize: 1.186 MiB