Package: Mulcom Version: 1.54.0 Command: /home/biocbuild/R/R-beta-2024-04-15_r86425/bin/R CMD check --install=check:Mulcom.install-out.txt --library=/home/biocbuild/R/R-beta-2024-04-15_r86425/site-library --no-vignettes --timings Mulcom_1.54.0.tar.gz StartedAt: 2024-05-09 09:51:48 -0000 (Thu, 09 May 2024) EndedAt: 2024-05-09 09:52:59 -0000 (Thu, 09 May 2024) EllapsedTime: 71.1 seconds RetCode: 0 Status: WARNINGS CheckDir: Mulcom.Rcheck Warnings: 1