Package: Mulcom Version: 1.54.0 Command: /home/biocbuild/R/R-beta-2024-04-15_r86425/bin/R CMD build --keep-empty-dirs --no-resave-data Mulcom StartedAt: 2024-05-09 02:00:38 -0000 (Thu, 09 May 2024) EndedAt: 2024-05-09 02:00:39 -0000 (Thu, 09 May 2024) EllapsedTime: 1.0 seconds RetCode: 0 Status: OK PackageFile: Mulcom_1.54.0.tar.gz PackageFileSize: 1.095 MiB