Package: Mulcom Version: 1.54.0 Command: /Library/Frameworks/R.framework/Resources/bin/R CMD INSTALL Mulcom StartedAt: 2024-10-16 16:01:39 -0400 (Wed, 16 Oct 2024) EndedAt: 2024-10-16 16:01:49 -0400 (Wed, 16 Oct 2024) EllapsedTime: 9.9 seconds RetCode: 0 Status: OK