Package: Mulcom Version: 1.54.0 Command: /Library/Frameworks/R.framework/Resources/bin/R CMD check --install=check:Mulcom.install-out.txt --library=/Library/Frameworks/R.framework/Resources/library --no-vignettes --timings Mulcom_1.54.0.tar.gz StartedAt: 2024-10-18 05:26:08 -0400 (Fri, 18 Oct 2024) EndedAt: 2024-10-18 05:27:21 -0400 (Fri, 18 Oct 2024) EllapsedTime: 73.6 seconds RetCode: 0 Status: WARNINGS CheckDir: Mulcom.Rcheck Warnings: 1