Package: Mulcom Version: 1.54.0 Command: /Library/Frameworks/R.framework/Resources/bin/R CMD build --keep-empty-dirs --no-resave-data Mulcom StartedAt: 2024-10-17 05:18:15 -0400 (Thu, 17 Oct 2024) EndedAt: 2024-10-17 05:18:16 -0400 (Thu, 17 Oct 2024) EllapsedTime: 1.2 seconds RetCode: 0 Status: OK PackageFile: Mulcom_1.54.0.tar.gz PackageFileSize: 1.095 MiB