Package: Mulcom Version: 1.54.0 Command: rm -rf Mulcom.buildbin-libdir && mkdir Mulcom.buildbin-libdir && /Users/biocbuild/BBS/utils/build-universal.sh Mulcom_1.54.0.tar.gz /Library/Frameworks/R.framework/Resources/bin/R Mulcom.buildbin-libdir StartedAt: 2024-10-18 19:39:21 -0400 (Fri, 18 Oct 2024) EndedAt: 2024-10-18 19:39:35 -0400 (Fri, 18 Oct 2024) EllapsedTime: 14.3 seconds RetCode: 0 Status: OK PackageFile: Mulcom_1.54.0.tgz PackageFileSize: 1.184 MiB