Package: MuData Version: 1.8.0 Command: E:\biocbuild\bbs-3.19-bioc\R\bin\R.exe CMD INSTALL MuData StartedAt: 2024-10-16 16:23:56 -0400 (Wed, 16 Oct 2024) EndedAt: 2024-10-16 16:24:24 -0400 (Wed, 16 Oct 2024) EllapsedTime: 28.0 seconds RetCode: 0 Status: OK