Package: MuData Version: 1.8.0 Command: rm -rf MuData.buildbin-libdir && mkdir MuData.buildbin-libdir && E:\biocbuild\bbs-3.19-bioc\R\bin\R.exe CMD INSTALL --build --library=MuData.buildbin-libdir MuData_1.8.0.tar.gz StartedAt: 2024-10-17 08:13:12 -0400 (Thu, 17 Oct 2024) EndedAt: 2024-10-17 08:13:42 -0400 (Thu, 17 Oct 2024) EllapsedTime: 30.8 seconds RetCode: 0 Status: OK PackageFile: MuData_1.8.0.zip PackageFileSize: 1.666 MiB