Package: MuData Version: 1.8.0 Command: F:\biocbuild\bbs-3.19-bioc\R\bin\R.exe CMD INSTALL MuData StartedAt: 2024-06-26 15:53:23 -0400 (Wed, 26 Jun 2024) EndedAt: 2024-06-26 15:53:57 -0400 (Wed, 26 Jun 2024) EllapsedTime: 34.6 seconds RetCode: 0 Status: OK