Package: MuData Version: 1.8.0 Command: F:\biocbuild\bbs-3.19-bioc\R\bin\R.exe CMD check --no-multiarch --install=check:MuData.install-out.txt --library=F:\biocbuild\bbs-3.19-bioc\R\library --no-vignettes --timings MuData_1.8.0.tar.gz StartedAt: 2024-06-27 04:00:52 -0400 (Thu, 27 Jun 2024) EndedAt: 2024-06-27 04:04:37 -0400 (Thu, 27 Jun 2024) EllapsedTime: 225.3 seconds RetCode: 0 Status: OK CheckDir: MuData.Rcheck Warnings: 0