Package: MuData Version: 1.8.0 Command: chmod a+r MuData -R && F:\biocbuild\bbs-3.19-bioc\R\bin\R.exe CMD build --keep-empty-dirs --no-resave-data MuData StartedAt: 2024-06-26 20:21:41 -0400 (Wed, 26 Jun 2024) EndedAt: 2024-06-26 20:25:08 -0400 (Wed, 26 Jun 2024) EllapsedTime: 207.2 seconds RetCode: 0 Status: OK PackageFile: MuData_1.8.0.tar.gz PackageFileSize: 1.611 MiB