Package: MuData Version: 1.8.0 Command: rm -rf MuData.buildbin-libdir && mkdir MuData.buildbin-libdir && F:\biocbuild\bbs-3.19-bioc\R\bin\R.exe CMD INSTALL --build --library=MuData.buildbin-libdir MuData_1.8.0.tar.gz StartedAt: 2024-06-27 08:33:56 -0400 (Thu, 27 Jun 2024) EndedAt: 2024-06-27 08:34:33 -0400 (Thu, 27 Jun 2024) EllapsedTime: 37.4 seconds RetCode: 0 Status: OK PackageFile: MuData_1.8.0.zip PackageFileSize: 1.665 MiB