Package: MuData Version: 1.8.0 Command: /Library/Frameworks/R.framework/Resources/bin/R CMD INSTALL MuData StartedAt: 2024-10-16 15:21:37 -0400 (Wed, 16 Oct 2024) EndedAt: 2024-10-16 15:22:32 -0400 (Wed, 16 Oct 2024) EllapsedTime: 55.0 seconds RetCode: 0 Status: OK