Package: MuData Version: 1.8.0 Command: /Library/Frameworks/R.framework/Resources/bin/R CMD build --keep-empty-dirs --no-resave-data MuData StartedAt: 2024-10-16 21:25:03 -0400 (Wed, 16 Oct 2024) EndedAt: 2024-10-16 21:31:05 -0400 (Wed, 16 Oct 2024) EllapsedTime: 362.0 seconds RetCode: 0 Status: OK PackageFile: MuData_1.8.0.tar.gz PackageFileSize: 2.235 MiB