Package: MuData Version: 1.8.0 Command: /home/biocbuild/R/R-beta-2024-04-15_r86425/bin/R CMD check --install=check:MuData.install-out.txt --library=/home/biocbuild/R/R-beta-2024-04-15_r86425/site-library --no-vignettes --timings MuData_1.8.0.tar.gz StartedAt: 2024-05-09 09:51:43 -0000 (Thu, 09 May 2024) EndedAt: 2024-05-09 09:55:39 -0000 (Thu, 09 May 2024) EllapsedTime: 236.4 seconds RetCode: 0 Status: OK CheckDir: MuData.Rcheck Warnings: 0