Package: MuData Version: 1.8.0 Command: /Library/Frameworks/R.framework/Resources/bin/R CMD check --install=check:MuData.install-out.txt --library=/Library/Frameworks/R.framework/Resources/library --no-vignettes --timings MuData_1.8.0.tar.gz StartedAt: 2024-06-10 23:15:36 -0400 (Mon, 10 Jun 2024) EndedAt: 2024-06-10 23:20:10 -0400 (Mon, 10 Jun 2024) EllapsedTime: 273.9 seconds RetCode: 0 Status: OK CheckDir: MuData.Rcheck Warnings: 0