Package: MuData Version: 1.8.0 Command: rm -rf MuData.buildbin-libdir && mkdir MuData.buildbin-libdir && /Users/biocbuild/BBS/utils/build-universal.sh MuData_1.8.0.tar.gz /Library/Frameworks/R.framework/Resources/bin/R MuData.buildbin-libdir StartedAt: 2024-06-11 12:14:18 -0400 (Tue, 11 Jun 2024) EndedAt: 2024-06-11 12:15:09 -0400 (Tue, 11 Jun 2024) EllapsedTime: 51.3 seconds RetCode: 0 Status: OK PackageFile: MuData_1.8.0.tgz PackageFileSize: 2.296 MiB