Package: MuData Version: 1.8.0 Command: /Library/Frameworks/R.framework/Resources/bin/R CMD check --install=check:MuData.install-out.txt --library=/Library/Frameworks/R.framework/Resources/library --no-vignettes --timings MuData_1.8.0.tar.gz StartedAt: 2024-10-18 05:25:05 -0400 (Fri, 18 Oct 2024) EndedAt: 2024-10-18 05:28:46 -0400 (Fri, 18 Oct 2024) EllapsedTime: 220.9 seconds RetCode: 0 Status: OK CheckDir: MuData.Rcheck Warnings: 0