Package: MuData Version: 1.8.0 Command: /Library/Frameworks/R.framework/Resources/bin/R CMD build --keep-empty-dirs --no-resave-data MuData StartedAt: 2024-10-17 05:18:12 -0400 (Thu, 17 Oct 2024) EndedAt: 2024-10-17 05:22:04 -0400 (Thu, 17 Oct 2024) EllapsedTime: 232.0 seconds RetCode: 0 Status: OK PackageFile: MuData_1.8.0.tar.gz PackageFileSize: 2.25 MiB