Package: MsQuality Version: 1.4.0 Command: rm -rf MsQuality.buildbin-libdir && mkdir MsQuality.buildbin-libdir && E:\biocbuild\bbs-3.19-bioc\R\bin\R.exe CMD INSTALL --build --library=MsQuality.buildbin-libdir MsQuality_1.4.0.tar.gz StartedAt: 2024-10-17 08:12:34 -0400 (Thu, 17 Oct 2024) EndedAt: 2024-10-17 08:13:26 -0400 (Thu, 17 Oct 2024) EllapsedTime: 51.5 seconds RetCode: 0 Status: OK PackageFile: MsQuality_1.4.0.zip PackageFileSize: 4.385 MiB