Package: MsQuality Version: 1.4.0 Command: /home/biocbuild/bbs-3.19-bioc/R/bin/R CMD check --install=check:MsQuality.install-out.txt --library=/home/biocbuild/bbs-3.19-bioc/R/site-library --timings MsQuality_1.4.0.tar.gz StartedAt: 2024-10-17 02:50:14 -0400 (Thu, 17 Oct 2024) EndedAt: 2024-10-17 02:56:36 -0400 (Thu, 17 Oct 2024) EllapsedTime: 381.8 seconds RetCode: 0 Status: OK CheckDir: MsQuality.Rcheck Warnings: 0