Package: MsQuality Version: 1.4.0 Command: /Library/Frameworks/R.framework/Resources/bin/R CMD build --keep-empty-dirs --no-resave-data MsQuality StartedAt: 2024-10-16 21:21:53 -0400 (Wed, 16 Oct 2024) EndedAt: 2024-10-16 21:25:12 -0400 (Wed, 16 Oct 2024) EllapsedTime: 199.4 seconds RetCode: 0 Status: OK PackageFile: MsQuality_1.4.0.tar.gz PackageFileSize: 4.243 MiB