Package: MsQuality Version: 1.4.0 Command: rm -rf MsQuality.buildbin-libdir && mkdir MsQuality.buildbin-libdir && /Users/biocbuild/BBS/utils/build-universal.sh MsQuality_1.4.0.tar.gz /Library/Frameworks/R.framework/Resources/bin/R MsQuality.buildbin-libdir StartedAt: 2024-10-17 16:40:42 -0400 (Thu, 17 Oct 2024) EndedAt: 2024-10-17 16:41:59 -0400 (Thu, 17 Oct 2024) EllapsedTime: 76.9 seconds RetCode: 0 Status: OK PackageFile: MsQuality_1.4.0.tgz PackageFileSize: 4.376 MiB