Package: MsQuality Version: 1.4.0 Command: /Library/Frameworks/R.framework/Resources/bin/R CMD check --install=check:MsQuality.install-out.txt --library=/Library/Frameworks/R.framework/Resources/library --no-vignettes --timings MsQuality_1.4.0.tar.gz StartedAt: 2024-06-10 23:06:21 -0400 (Mon, 10 Jun 2024) EndedAt: 2024-06-10 23:15:24 -0400 (Mon, 10 Jun 2024) EllapsedTime: 543.1 seconds RetCode: 0 Status: OK CheckDir: MsQuality.Rcheck Warnings: 0