Package: MsFeatures Version: 1.12.0 Command: chmod a+r MsFeatures -R && E:\biocbuild\bbs-3.19-bioc\R\bin\R.exe CMD build --keep-empty-dirs --no-resave-data MsFeatures StartedAt: 2024-10-16 20:30:55 -0400 (Wed, 16 Oct 2024) EndedAt: 2024-10-16 20:31:40 -0400 (Wed, 16 Oct 2024) EllapsedTime: 44.7 seconds RetCode: 0 Status: OK PackageFile: MsFeatures_1.12.0.tar.gz PackageFileSize: 841.8 KiB