Package: MsFeatures Version: 1.12.0 Command: chmod a+r MsFeatures -R && F:\biocbuild\bbs-3.19-bioc\R\bin\R.exe CMD build --keep-empty-dirs --no-resave-data MsFeatures StartedAt: 2024-06-26 20:17:52 -0400 (Wed, 26 Jun 2024) EndedAt: 2024-06-26 20:18:32 -0400 (Wed, 26 Jun 2024) EllapsedTime: 40.4 seconds RetCode: 0 Status: OK PackageFile: MsFeatures_1.12.0.tar.gz PackageFileSize: 841.7 KiB