Package: MsFeatures Version: 1.12.0 Command: rm -rf MsFeatures.buildbin-libdir && mkdir MsFeatures.buildbin-libdir && F:\biocbuild\bbs-3.19-bioc\R\bin\R.exe CMD INSTALL --build --library=MsFeatures.buildbin-libdir MsFeatures_1.12.0.tar.gz StartedAt: 2024-06-27 08:33:12 -0400 (Thu, 27 Jun 2024) EndedAt: 2024-06-27 08:33:40 -0400 (Thu, 27 Jun 2024) EllapsedTime: 27.3 seconds RetCode: 0 Status: OK PackageFile: MsFeatures_1.12.0.zip PackageFileSize: 889.8 KiB