Package: MsFeatures Version: 1.12.0 Command: /home/biocbuild/bbs-3.19-bioc/R/bin/R CMD check --install=check:MsFeatures.install-out.txt --library=/home/biocbuild/bbs-3.19-bioc/R/site-library --timings MsFeatures_1.12.0.tar.gz StartedAt: 2024-10-17 02:47:30 -0400 (Thu, 17 Oct 2024) EndedAt: 2024-10-17 02:50:13 -0400 (Thu, 17 Oct 2024) EllapsedTime: 163.3 seconds RetCode: 0 Status: OK CheckDir: MsFeatures.Rcheck Warnings: 0