Package: MsFeatures Version: 1.12.0 Command: /Library/Frameworks/R.framework/Resources/bin/R CMD check --install=check:MsFeatures.install-out.txt --library=/Library/Frameworks/R.framework/Resources/library --no-vignettes --timings MsFeatures_1.12.0.tar.gz StartedAt: 2024-06-09 21:43:40 -0400 (Sun, 09 Jun 2024) EndedAt: 2024-06-09 21:46:28 -0400 (Sun, 09 Jun 2024) EllapsedTime: 167.6 seconds RetCode: 0 Status: OK CheckDir: MsFeatures.Rcheck Warnings: 0