Package: MsFeatures Version: 1.12.0 Command: /home/biocbuild/R/R-beta-2024-04-15_r86425/bin/R CMD INSTALL MsFeatures StartedAt: 2024-05-08 20:13:19 -0000 (Wed, 08 May 2024) EndedAt: 2024-05-08 20:13:46 -0000 (Wed, 08 May 2024) EllapsedTime: 27.0 seconds RetCode: 0 Status: OK